BEGIN:VCALENDAR
VERSION:2.0
PRODID:-//Haus &amp; Grund Horb e.V. - ECPv6.15.20//NONSGML v1.0//EN
CALSCALE:GREGORIAN
METHOD:PUBLISH
X-WR-CALNAME:Haus &amp; Grund Horb e.V.
X-ORIGINAL-URL:https://hausundgrundhorb.de
X-WR-CALDESC:Veranstaltungen für Haus &amp; Grund Horb e.V.
REFRESH-INTERVAL;VALUE=DURATION:PT1H
X-Robots-Tag:noindex
X-PUBLISHED-TTL:PT1H
BEGIN:VTIMEZONE
TZID:Europe/Berlin
BEGIN:DAYLIGHT
TZOFFSETFROM:+0100
TZOFFSETTO:+0200
TZNAME:CEST
DTSTART:20210328T010000
END:DAYLIGHT
BEGIN:STANDARD
TZOFFSETFROM:+0200
TZOFFSETTO:+0100
TZNAME:CET
DTSTART:20211031T010000
END:STANDARD
BEGIN:DAYLIGHT
TZOFFSETFROM:+0100
TZOFFSETTO:+0200
TZNAME:CEST
DTSTART:20220327T010000
END:DAYLIGHT
BEGIN:STANDARD
TZOFFSETFROM:+0200
TZOFFSETTO:+0100
TZNAME:CET
DTSTART:20221030T010000
END:STANDARD
BEGIN:DAYLIGHT
TZOFFSETFROM:+0100
TZOFFSETTO:+0200
TZNAME:CEST
DTSTART:20230326T010000
END:DAYLIGHT
BEGIN:STANDARD
TZOFFSETFROM:+0200
TZOFFSETTO:+0100
TZNAME:CET
DTSTART:20231029T010000
END:STANDARD
END:VTIMEZONE
BEGIN:VEVENT
DTSTART;TZID=Europe/Berlin:20221102T140000
DTEND;TZID=Europe/Berlin:20221102T170000
DTSTAMP:20260424T193715
CREATED:20220617T100838Z
LAST-MODIFIED:20231212T153459Z
UID:9120-1667397600-1667408400@hausundgrundhorb.de
SUMMARY:Rechtsberatung 02.11.2022
DESCRIPTION:Am Mittwoch\, den 02. November 2022 findet die Rechtsberatung für Mitglieder von Haus und Grund Horb e.V. statt.\n\nDie Beratung in Präsenz kann nur für Vereinsmitglieder angeboten werden\, die nachweislich gegen COVID-19 geimpft oder genesen sind (2G-Regel).\n\nFür die Beratung ist vorab ein Termin (telefonisch) zu vereinbaren. Bei Päsenzterminen sollten die Mitglieder erst zum vereinbarten Termin erscheinen\, da in den Räumen von Avolegis kein Wartezimmer zur Verfügung steht.\n\nTelefonische Beratungstermine werden an den „Beratungstagen“ ab 16 Uhr erfolgen. Auch hierfür bitten wir um vorherigen telefonische Terminvereinbarung.\n\n 
URL:https://hausundgrundhorb.de/event/rechtsberatung-02-11-2022/
LOCATION:Avolegis Rechtsanwälte GbR\, Rauher Grund 13\, Horb\, Baden-Württemberg\, 72160\, Deutschland
CATEGORIES:Rechtsberatung
ATTACH;FMTTYPE=image/png:https://hausundgrundhorb.de/wp-content/uploads/2017/06/Avolegis.png
ORGANIZER;CN="Haus & Grund Horb":MAILTO:info@hausundgrundhorb.de
END:VEVENT
BEGIN:VEVENT
DTSTART;TZID=Europe/Berlin:20221116T140000
DTEND;TZID=Europe/Berlin:20221116T170000
DTSTAMP:20260424T193715
CREATED:20220617T100842Z
LAST-MODIFIED:20220617T101026Z
UID:9121-1668607200-1668618000@hausundgrundhorb.de
SUMMARY:Rechtsberatung 16.11.2022
DESCRIPTION:Am Mittwoch\, den 16. November 2022 findet die Rechtsberatung für Mitglieder von Haus und Grund Horb e.V. statt. \nDie Beratung in Präsenz kann nur für Vereinsmitglieder angeboten werden\, die nachweislich gegen COVID-19 geimpft oder genesen sind (2G-Regel). \nFür die Beratung ist vorab ein Termin (telefonisch) zu vereinbaren. Bei Päsenzterminen sollten die Mitglieder erst zum vereinbarten Termin erscheinen\, da in den Räumen von Avolegis kein Wartezimmer zur Verfügung steht. \nTelefonische Beratungstermine werden an den „Beratungstagen“ ab 16 Uhr erfolgen. Auch hierfür bitten wir um vorherigen telefonische Terminvereinbarung. \n 
URL:https://hausundgrundhorb.de/event/rechtsberatung-16-11-2022/
LOCATION:Avolegis Rechtsanwälte GbR\, Rauher Grund 13\, Horb\, Baden-Württemberg\, 72160\, Deutschland
CATEGORIES:Rechtsberatung
ATTACH;FMTTYPE=image/png:https://hausundgrundhorb.de/wp-content/uploads/2017/06/Avolegis.png
ORGANIZER;CN="Haus & Grund Horb":MAILTO:info@hausundgrundhorb.de
END:VEVENT
END:VCALENDAR